BEGIN:VCALENDAR
VERSION:2.0
PRODID:-//Tukios.com/
BEGIN:VEVENT
UID:86f8b913-7f9c-4d51-84f0-742ce58379fd@www.holderwells.com
DTSTAMP:20260421T021247Z
DTSTART:20260427T180000Z
DTEND:20260427T190000Z
SUMMARY:Visitation for Anthony Lee Best
DESCRIPTION:
URL:https://www.holderwells.com/obituaries/anthony-best
LOCATION:Collective Church 4007 Pascagoula Street  Pascagoula MS 39567
GEO:30.3744541;-88.5523628
END:VEVENT
END:VCALENDAR