BEGIN:VCALENDAR
VERSION:2.0
PRODID:-//Tukios.com/
BEGIN:VEVENT
UID:36a4cc0f-7ef0-4475-a068-a50e8c4f47fe@www.holderwells.com
DTSTAMP:20260421T021139Z
DTSTART:20260427T190000Z
DTEND:20260427T200000Z
SUMMARY:Memorial for Anthony Lee Best
DESCRIPTION:
URL:https://www.holderwells.com/obituaries/anthony-best
LOCATION:Collective Church 4007 Pascagoula Street  Pascagoula MS 39567
GEO:30.3744541;-88.5523628
END:VEVENT
END:VCALENDAR