BEGIN:VCALENDAR
VERSION:2.0
PRODID:-//Tukios.com/
BEGIN:VEVENT
UID:63287c37-7a38-4e41-9cd7-be75e29f1660@www.holderwells.com
DTSTAMP:20260421T021041Z
DTSTART:20260427T203000Z
DTEND:20260427T213000Z
SUMMARY:Graveside for Anthony Lee Best
DESCRIPTION:
URL:https://www.holderwells.com/obituaries/anthony-best
LOCATION:Serene Memorial Gardens and Mausoleum 12800 MS-613  Moss Point 
	MS 39562
GEO:30.5280698;-88.5302073
END:VEVENT
END:VCALENDAR